BEGIN:VCALENDAR
VERSION:2.0
PRODID:-//Gary Springfield - ECPv6.15.20//NONSGML v1.0//EN
CALSCALE:GREGORIAN
METHOD:PUBLISH
X-WR-CALNAME:Gary Springfield
X-ORIGINAL-URL:https://garyspringfield.com
X-WR-CALDESC:Events for Gary Springfield
REFRESH-INTERVAL;VALUE=DURATION:PT1H
X-Robots-Tag:noindex
X-PUBLISHED-TTL:PT1H
BEGIN:VTIMEZONE
TZID:America/Phoenix
BEGIN:STANDARD
TZOFFSETFROM:-0700
TZOFFSETTO:-0700
TZNAME:MST
DTSTART:20150101T000000
END:STANDARD
END:VTIMEZONE
BEGIN:VEVENT
DTSTART;TZID=America/Phoenix:20160619T093000
DTEND;TZID=America/Phoenix:20160619T163000
DTSTAMP:20260425T092917
CREATED:20160608T080233Z
LAST-MODIFIED:20161107T030223Z
UID:5358-1466328600-1466353800@garyspringfield.com
SUMMARY:The Christed Way (Phoenix\, AZ) - Sunday June 19\, 2016
DESCRIPTION:In the last several workshops advanced practitioners learned how to open an inter-dimensional doorway through the heart into Source\, i.e. God Consciousness\, through the unification of heart and mind. This union is symbolized in two interlaced triangles creating the star tetrahedron\, i.e. The Star of David. We then formulated the “Golden Heart Lens” in the heart which evolves into the multi-faceted diamond of the Christ Consciousness in order to summon the unlimited possibilities of Source into manifestation. \nThis new workshop will build upon that opening and will introduce new techniques to enliven the body/spirit connection.\nIn order to achieve this next level of mastery some of the workshop must be done in silence in order to literally create a space where spirit\, i.e. Divine consciousness\, can manifest into the room as a living presence. I invite you to attend\, but please know that sacred silence must be maintained in order to achieve this mystical union that goes beyond Soul consciousness into Universal consciousness. \nGary Springfield is a Meditation Master and visionary for a planetary evolution that is radically transforming Earth now. He embodies and teaches the New Generation of Light for humankind. His Meditation Mastery and emotional clearing techniques provide you incomparable tools for total transformation. \nTo attend this advanced workshop\, you should have taken a Light Activation Day#1 Workshop. If not\, you can RSVP to Gary directly so you can share your background. \nPotluck Lunch \nSuggested Day #1 and #2 Donation: $150-$195\nSuggested Day #2 Donation: $95—$125 \nRSVP to Gary:\n831-224-4279 or\ngspring33@gmail.com
URL:https://garyspringfield.com/event/the-christed-way-day-2-of-a-two-day-workshop/
LOCATION:RSVP to Gary for the specific location.\, Phoenix\, United States
END:VEVENT
BEGIN:VEVENT
DTSTART;TZID=America/Phoenix:20160618T093000
DTEND;TZID=America/Phoenix:20160618T163000
DTSTAMP:20260425T092917
CREATED:20160608T074126Z
LAST-MODIFIED:20161107T030331Z
UID:5357-1466242200-1466267400@garyspringfield.com
SUMMARY:Light Body Activation (Phoenix\, AZ) - Saturday June 18\, 2016
DESCRIPTION:Full integration of body\, mind and spirit is the fulfillment of the Christ Conscious-ness or the Buddha Nature. Golden Light meditation focuses and trains the ego mind how to rest upon the Christ Mind so that spirit can be fully integrated into the body systems. \nI will teach you how to align and focus the limited mind so that your consciousness opens an inter-dimensional doorway through the heart into Divine Mind. As you perfect and hone this system of awareness you realize that all creation is “Mind” made manifest into form. Christ consciousness calls forth Universal Mind/spirit and systematizes it into a living substance than literally manifests and creates life in perfection. The stars\, galaxies\, planets and all creation are formulated from Spirit/Mind through the Christ consciousness. \nGary Springfield is a Meditation Master and visionary for a planetary evolution that is radically transforming Earth now. He embodies and teaches the New Gen-eration of Light for humankind. His Meditation Mastery and emotional clearing techniques provide you incomparable tools for total transformation. \nSuggested donation: $95-$125\nBoth days: $150-$195\nPotluck Lunch \nRSVP to:\nGary Springfield\n831-224-4279 or\ngspring33@gmail.com
URL:https://garyspringfield.com/event/light-activation-day-1-of-a-two-day-workshop-event/
LOCATION:Rising Phoenix Church\, 1522 W. Encanto Blvd.\, Phoenix\, United States
END:VEVENT
BEGIN:VEVENT
DTSTART;TZID=America/Phoenix:20160616T190000
DTEND;TZID=America/Phoenix:20160616T210000
DTSTAMP:20260425T092917
CREATED:20160608T073747Z
LAST-MODIFIED:20161107T025412Z
UID:5348-1466103600-1466110800@garyspringfield.com
SUMMARY:The Doorway to Home\, A Talk (Phoenix\, AZ) - Thursday June 16\, 2016
DESCRIPTION:You and I\, and all creation originally emerged from out of the heart of Source/God Being. Over eons of time we have woven ourselves ever deeper into the denseness of light until Spirit became form and the birthing of planets and stars was achieved. Once Earth was created we then began to evolve life upon the planet until WE\, as spirit intelligence\, ultimately evolved homo sapiens and\, finally\, consciousness was living with-in form. \nBut over these eons of time we forgot that WE were the spirit intelligence that created worlds of form within which we could manifest\, play and experience the wonders of our creation.\nIn our forgetfulness we have been manipulating and destroying the sanctuary of Earth that we created and now we are at a critical nexus. If we don’t wake up soon the destruction of Earth is possible. There is a new paradigm of consciousness now evolving on the planet and within you there is a sacred doorway that leads back to source creation. You can easily rea-waken the divine and sacred being within you and help co-create a living Heaven on Earth. \nSuggested Donation:\n$15—$20
URL:https://garyspringfield.com/event/the-doorway-to-home-a-talk/
LOCATION:Rising Phoenix Church\, 1522 W. Encanto Blvd.\, Phoenix\, United States
END:VEVENT
END:VCALENDAR