BEGIN:VCALENDAR
VERSION:2.0
PRODID:-//Gary Springfield - ECPv6.15.20//NONSGML v1.0//EN
CALSCALE:GREGORIAN
METHOD:PUBLISH
X-ORIGINAL-URL:https://garyspringfield.com
X-WR-CALDESC:Events for Gary Springfield
REFRESH-INTERVAL;VALUE=DURATION:PT1H
X-Robots-Tag:noindex
X-PUBLISHED-TTL:PT1H
BEGIN:VTIMEZONE
TZID:America/Phoenix
BEGIN:STANDARD
TZOFFSETFROM:-0700
TZOFFSETTO:-0700
TZNAME:MST
DTSTART:20180101T000000
END:STANDARD
END:VTIMEZONE
BEGIN:VEVENT
DTSTART;TZID=America/Phoenix:20190301T180000
DTEND;TZID=America/Phoenix:20190303T120000
DTSTAMP:20260425T194551
CREATED:20190205T075826Z
LAST-MODIFIED:20190205T082011Z
UID:5843-1551463200-1551614400@garyspringfield.com
SUMMARY:The Knowing and the Being - Friday/Saturday/Sunday\, March 1/2/3\, 2019
DESCRIPTION:The Knowing & The Being \nWith Gary Springfield & Sondra Sneed \nMarch 1st\, 2nd & 3rd\, 2019  from Phoenix\, AZ \nMeditation Dates & Times: \n3-02 | SAT | 9am-Noon MT /Gary (Being) & Sondra (Knowing)\n3-03 | SUN | 9am-Noon MT / Gary (Being) & Sondra (Knowing)\nAlso:\n3-01 | FRI | 6pm-9pm MT / Review of Springfield method followed by\nLinda Hertzhiem-Green channeling questions regarding the human position\nin interplanetary dialogue. \nFor tickets\, click the link or copy and paste it into your browser.\nhttps://sondrasneed.com/knowing-and-being-phoenix-mar-123/
URL:https://garyspringfield.com/event/the-knowing-and-the-being-friday-saturday-sunday-march-1-2-3-2019/
ATTACH;FMTTYPE=image/jpeg:https://garyspringfield.com/wp-content/uploads/2019/01/Torus-1.jpg
END:VEVENT
BEGIN:VEVENT
DTSTART;TZID=America/Phoenix:20190330T093000
DTEND;TZID=America/Phoenix:20190331T143000
DTSTAMP:20260425T194551
CREATED:20190310T230831Z
LAST-MODIFIED:20190411T073946Z
UID:5851-1553938200-1554042600@garyspringfield.com
SUMMARY:I Am That I Am - Saturday 3/30/2019 & Sunday 3/31/2019
DESCRIPTION:Phoenix\, AZ in Person -or- Online by Live Stream \nSaturday and Sunday\, 9:30 am-2:30 pm (Mountain Standard Time\, MST)  \nDonation – In person: $95-$125\, Online: $35-$45. (Sunday is free with Saturday Donation) \n  \nThere is an energetic field of Divine Mind\, encircling you in a cocoon of perfection. All authentic power\, wisdom and love already exists within it. Enlightenment is simply letting go of the illusion of separation\, programmed into you by family and society. \nThis union is achieved through the mastery of the Christ Consciousness which is the Mystical Marriage of Sacred Power and Divine Love. This union reveals an energetic form within and around you called the Star Tetrahedron. \nI will take you through the step by step initiator work to Master the Divine Mind within you as the living Christ. \nGary Springfield is a Meditation Master and visionary for a planetary evolution that is radically transforming Earth now. He embodies and teaches the New Generation of Light for Mankind. \n  \nRSVP for Phoenix Location \n   – Gary Springfield: gspring33@gmail.com or 831-224-4279\n   – Lisa Mckenzie: lmckenzie1light@gmail.com or 602-579-9461 \nTo attend in person. \n   – Donate in person by check/cash -or- donate by credit card\, debit card or PayPal below. \nTo attend online by live stream. \n   – Donate by credit card\, debit card or PayPal below. \n   – Link to online live stream emailed the night before. \nQuestions about attending online.   \n   – Ed Ferrero: ferrero108@gmail.com\, 408-930-6708 \n\n  \nPlease PayPal to:  \nGspring33@gmail.com \n \n\n  \nGaryspringfield.com
URL:https://garyspringfield.com/event/i-am-that-i-am-saturday-3-30-2019-sunday-3-31-2019/
ATTACH;FMTTYPE=image/jpeg:https://garyspringfield.com/wp-content/uploads/2017/10/Blue-Tetrahedron-from-2017-05-28.jpg
END:VEVENT
END:VCALENDAR