BEGIN:VCALENDAR
VERSION:2.0
PRODID:-//Gary Springfield - ECPv6.15.20//NONSGML v1.0//EN
CALSCALE:GREGORIAN
METHOD:PUBLISH
X-ORIGINAL-URL:https://garyspringfield.com
X-WR-CALDESC:Events for Gary Springfield
REFRESH-INTERVAL;VALUE=DURATION:PT1H
X-Robots-Tag:noindex
X-PUBLISHED-TTL:PT1H
BEGIN:VTIMEZONE
TZID:America/Los_Angeles
BEGIN:DAYLIGHT
TZOFFSETFROM:-0800
TZOFFSETTO:-0700
TZNAME:PDT
DTSTART:20180311T100000
END:DAYLIGHT
BEGIN:STANDARD
TZOFFSETFROM:-0700
TZOFFSETTO:-0800
TZNAME:PST
DTSTART:20181104T090000
END:STANDARD
BEGIN:DAYLIGHT
TZOFFSETFROM:-0800
TZOFFSETTO:-0700
TZNAME:PDT
DTSTART:20190310T100000
END:DAYLIGHT
BEGIN:STANDARD
TZOFFSETFROM:-0700
TZOFFSETTO:-0800
TZNAME:PST
DTSTART:20191103T090000
END:STANDARD
BEGIN:DAYLIGHT
TZOFFSETFROM:-0800
TZOFFSETTO:-0700
TZNAME:PDT
DTSTART:20200308T100000
END:DAYLIGHT
BEGIN:STANDARD
TZOFFSETFROM:-0700
TZOFFSETTO:-0800
TZNAME:PST
DTSTART:20201101T090000
END:STANDARD
END:VTIMEZONE
BEGIN:VEVENT
DTSTART;TZID=America/Los_Angeles:20190706T100000
DTEND;TZID=America/Los_Angeles:20190706T143000
DTSTAMP:20260425T132909
CREATED:20190613T230749Z
LAST-MODIFIED:20190613T230749Z
UID:5930-1562407200-1562423400@garyspringfield.com
SUMMARY:The Power of Imagination -  Saturday 7/6/2019
DESCRIPTION:San Jose\, CA in Person -or- Online \nSaturday 10:00 am-2:30 pm (Pacific Standard Time\, PST)  \nDonation – In person: $65-$95\, Online: $35-$45. \n  \nWhat we imagine\, see and feel becomes manifest and real. The scattered mind can create a conglomeration of unfulfilled\, often emotionally draining scenarios. The supremely focused mind\, through the magic jewel of the Star Tetrahedron\, summons unlimited Spirit from out of the void to create peace\, prosperity\, love\, and joy with effortless ease. \nGary will take you through the step by step activation of the Star Tetrahedron\, the jewel in the lotus in the heart\, and give you the tools and techniques for enlightenment and manifestation. \n  \nGary Springfield is a Meditation Master and visionary for a planetary evolution that is radically transforming Earth now. He embodies and teaches the New Generation of Light for Mankind. \n  \nRSVP for San Jose Location \n   – Gary Springfield: gspring33@gmail.com or 831-224-4279\n  \nTo attend in person. \n   – Donate in person by check/cash -or- donate by credit card\, debit card or PayPal below. \nTo attend online by live stream. \n   – Donate by credit card\, debit card or PayPal below. \n   – Link to online emailed the night before. \nQuestions about attending online.   \n   – Ed Ferrero: ferrero108@gmail.com\, 408-930-6708 \n\n  \nPlease PayPal to:  \nGspring33@gmail.com \n \n\n 
URL:https://garyspringfield.com/event/the-power-of-imagination-saturday-7-6-2019/
ATTACH;FMTTYPE=image/jpeg:https://garyspringfield.com/wp-content/uploads/2017/10/Blue-Tetrahedron-from-2017-05-28.jpg
END:VEVENT
END:VCALENDAR