BEGIN:VCALENDAR
VERSION:2.0
PRODID:-//Gary Springfield - ECPv6.15.20//NONSGML v1.0//EN
CALSCALE:GREGORIAN
METHOD:PUBLISH
X-ORIGINAL-URL:https://garyspringfield.com
X-WR-CALDESC:Events for Gary Springfield
REFRESH-INTERVAL;VALUE=DURATION:PT1H
X-Robots-Tag:noindex
X-PUBLISHED-TTL:PT1H
BEGIN:VTIMEZONE
TZID:America/Los_Angeles
BEGIN:DAYLIGHT
TZOFFSETFROM:-0800
TZOFFSETTO:-0700
TZNAME:PDT
DTSTART:20180311T100000
END:DAYLIGHT
BEGIN:STANDARD
TZOFFSETFROM:-0700
TZOFFSETTO:-0800
TZNAME:PST
DTSTART:20181104T090000
END:STANDARD
BEGIN:DAYLIGHT
TZOFFSETFROM:-0800
TZOFFSETTO:-0700
TZNAME:PDT
DTSTART:20190310T100000
END:DAYLIGHT
BEGIN:STANDARD
TZOFFSETFROM:-0700
TZOFFSETTO:-0800
TZNAME:PST
DTSTART:20191103T090000
END:STANDARD
BEGIN:DAYLIGHT
TZOFFSETFROM:-0800
TZOFFSETTO:-0700
TZNAME:PDT
DTSTART:20200308T100000
END:DAYLIGHT
BEGIN:STANDARD
TZOFFSETFROM:-0700
TZOFFSETTO:-0800
TZNAME:PST
DTSTART:20201101T090000
END:STANDARD
END:VTIMEZONE
BEGIN:VEVENT
DTSTART;TZID=America/Los_Angeles:20190828T190000
DTEND;TZID=America/Los_Angeles:20190828T201500
DTSTAMP:20260425T115000
CREATED:20190830T064917Z
LAST-MODIFIED:20200403T185220Z
UID:5971-1567018800-1567023300@garyspringfield.com
SUMMARY:Gary Springfield Meditation with Q&A (2nd and 4th Wednesday of each month)
DESCRIPTION:An Online Event only.  \n7:00 pm-8:15 pm (Pacific Standard Time\, PST)  \nDonations accepted. \n  \nMeditation\, with time for questions and answers about your practice\, awakenings and general questions about our work. Write down some thoughts and questions to be shared! \nGary Springfield is a Meditation Master and visionary for a planetary evolution that is radically transforming Earth now. He embodies and teaches the New Generation of Light for Mankind. \n  \nIf you are on Gary’s website mailing list\, you will be reminded of these events. \n  \nRSVP to Gary: gspring33@gmail.com \n  \nPlease PayPal Donations to: gspring33@gmail.com \n  \nTechnical questions\, contact Ed: ferrero108@gmail.com \n\n  \nPlease PayPal to:  \nGspring33@gmail.com
URL:https://garyspringfield.com/event/gary-springfield-meditation-with-qas-2nd-and-4th-wednesday-of-each-month/
ATTACH;FMTTYPE=image/jpeg:https://garyspringfield.com/wp-content/uploads/2014/11/experience1.jpg
END:VEVENT
END:VCALENDAR