BEGIN:VCALENDAR
VERSION:2.0
PRODID:-//Gary Springfield - ECPv6.15.20//NONSGML v1.0//EN
CALSCALE:GREGORIAN
METHOD:PUBLISH
X-WR-CALNAME:Gary Springfield
X-ORIGINAL-URL:https://garyspringfield.com
X-WR-CALDESC:Events for Gary Springfield
REFRESH-INTERVAL;VALUE=DURATION:PT1H
X-Robots-Tag:noindex
X-PUBLISHED-TTL:PT1H
BEGIN:VTIMEZONE
TZID:America/Phoenix
BEGIN:STANDARD
TZOFFSETFROM:-0700
TZOFFSETTO:-0700
TZNAME:MST
DTSTART:20180101T000000
END:STANDARD
END:VTIMEZONE
BEGIN:VEVENT
DTSTART;TZID=America/Phoenix:20190921T093000
DTEND;TZID=America/Phoenix:20190922T143000
DTSTAMP:20260425T102920
CREATED:20190828T094543Z
LAST-MODIFIED:20190828T221146Z
UID:5967-1569058200-1569162600@garyspringfield.com
SUMMARY:The Fall Equinox - Saturday 9/21/2019 & Sunday 9/22/2019
DESCRIPTION:Phoenix\, AZ in Person -or- Online by Live Stream \nSaturday and Sunday\, 9:30 am-2:30 pm   \nDonation – In person: $95-$145\, Online: $35-$45. (Sunday is free with Saturday Donation) \n  \nThe Fall Equinox is the time for the harvesting of the fruits of labor that were sown at the Spring Equinox\, i.e. Easter and were nourished in the warm sunlight of summer to be ripened and harvested in the fall. This applies\, as well\, to our spiritual labors where we sow the sees of our hopes and dreams and nourish them in the light. \n  \nWe are most fortunate because we know that the light of Spirit emerges from within us through the magic of the Star Tetrahedron and we grow in great abundance as we become the Source of Light. We will gather once again in the Light and refine our knowledge and practice of this Sacred Initiatory rite. I will take you through the step by step activation of the Star Tetrahedron; the refinement of the opening within the hear chakra into the void of creation in order to summon spirit into manifestation. \n  \nGary Springfield is a Meditation Master and visionary for a planetary evolution that is radically transforming Earth now. He embodies and teaches the New Generation of Light for Mankind. \n  \nRSVP for Phoenix Location \n   – Gary Springfield: 831-224-4279 or gspring33@gmail.com \nFor Online please PayPal to: \n   – gspring33@gmail.com\, see link below. \n   – Paypal donation from a credit card\, debit card or PayPal account. \n   – Link to online live stream emailed the night before. \nQuestions about attending online.   \n   – Ed Ferrero: ferrero108@gmail.com or 408-930-6708 \n\n  \nPlease PayPal to:  \nGspring33@gmail.com \n \n\n  \nGaryspringfield.com
URL:https://garyspringfield.com/event/the-fall-equinox-saturday-9-21-2019-sunday-9-22-2019/
ATTACH;FMTTYPE=image/jpeg:https://garyspringfield.com/wp-content/uploads/2019/08/Blue-Universe.jpg
END:VEVENT
END:VCALENDAR