BEGIN:VCALENDAR
VERSION:2.0
PRODID:-//Gary Springfield - ECPv6.15.20//NONSGML v1.0//EN
CALSCALE:GREGORIAN
METHOD:PUBLISH
X-WR-CALNAME:Gary Springfield
X-ORIGINAL-URL:https://garyspringfield.com
X-WR-CALDESC:Events for Gary Springfield
REFRESH-INTERVAL;VALUE=DURATION:PT1H
X-Robots-Tag:noindex
X-PUBLISHED-TTL:PT1H
BEGIN:VTIMEZONE
TZID:America/Los_Angeles
BEGIN:DAYLIGHT
TZOFFSETFROM:-0800
TZOFFSETTO:-0700
TZNAME:PDT
DTSTART:20190310T100000
END:DAYLIGHT
BEGIN:STANDARD
TZOFFSETFROM:-0700
TZOFFSETTO:-0800
TZNAME:PST
DTSTART:20191103T090000
END:STANDARD
BEGIN:DAYLIGHT
TZOFFSETFROM:-0800
TZOFFSETTO:-0700
TZNAME:PDT
DTSTART:20200308T100000
END:DAYLIGHT
BEGIN:STANDARD
TZOFFSETFROM:-0700
TZOFFSETTO:-0800
TZNAME:PST
DTSTART:20201101T090000
END:STANDARD
BEGIN:DAYLIGHT
TZOFFSETFROM:-0800
TZOFFSETTO:-0700
TZNAME:PDT
DTSTART:20210314T100000
END:DAYLIGHT
BEGIN:STANDARD
TZOFFSETFROM:-0700
TZOFFSETTO:-0800
TZNAME:PST
DTSTART:20211107T090000
END:STANDARD
END:VTIMEZONE
BEGIN:VEVENT
DTSTART;TZID=America/Los_Angeles:20200329T093000
DTEND;TZID=America/Los_Angeles:20200329T133000
DTSTAMP:20260424T223927
CREATED:20200325T003552Z
LAST-MODIFIED:20200325T003552Z
UID:6081-1585474200-1585488600@garyspringfield.com
SUMMARY:Workshop - The Predictions of 2012 and Chaos - Sunday March 29th 2020
DESCRIPTION:Online by Live Stream Only (email with link sent by 9:00 a.m.) \nSunday\, 9:30 am-1:30 pm (Pacific Standard Time\, PST) \nSuggested Donation – $45-$75  (…but no one is turned away.) \n  \n2012 was the time of the paradigm shift from the old power grid into love and light.\n\n\nChaos is fast upon us and spiritual alignment with the Soul or Light Body  is the true place of peace and plenty. I will teach techniques on light activation\, creating Heavenly Manna to restore the body and new breath techniques to fully balance the Chi for health and vitality.\n  \nGary Springfield is a Meditation Master and visionary for a planetary evolution that is radically transforming Earth now. He embodies and teaches the New Generation of Light for Mankind. \n  \nPlease RSVP to Gary before Friday March 27th \n– He will put you on the list to receive the live stream link via email by 9:00 a.m. \n– He is normally in meditation prior to the workshop and is not available for last minute requests.  \n  \nDonate \n   – Gspring33@gmail.com at paypal (see link below) or by check (RSVP to Gary for mailing address) \n  \n\nPlease PayPal to:  \nGspring33@gmail.com\n\n  \nGaryspringfield.com
URL:https://garyspringfield.com/event/workshop-the-predictions-of-2012-and-chaos-sunday-march-29th-2020/
ATTACH;FMTTYPE=image/jpeg:https://garyspringfield.com/wp-content/uploads/2020/03/Hello-Spring.jpg
END:VEVENT
END:VCALENDAR