BEGIN:VCALENDAR
VERSION:2.0
PRODID:-//Gary Springfield - ECPv6.15.20//NONSGML v1.0//EN
CALSCALE:GREGORIAN
METHOD:PUBLISH
X-WR-CALNAME:Gary Springfield
X-ORIGINAL-URL:https://garyspringfield.com
X-WR-CALDESC:Events for Gary Springfield
REFRESH-INTERVAL;VALUE=DURATION:PT1H
X-Robots-Tag:noindex
X-PUBLISHED-TTL:PT1H
BEGIN:VTIMEZONE
TZID:America/Los_Angeles
BEGIN:DAYLIGHT
TZOFFSETFROM:-0800
TZOFFSETTO:-0700
TZNAME:PDT
DTSTART:20200308T100000
END:DAYLIGHT
BEGIN:STANDARD
TZOFFSETFROM:-0700
TZOFFSETTO:-0800
TZNAME:PST
DTSTART:20201101T090000
END:STANDARD
BEGIN:DAYLIGHT
TZOFFSETFROM:-0800
TZOFFSETTO:-0700
TZNAME:PDT
DTSTART:20210314T100000
END:DAYLIGHT
BEGIN:STANDARD
TZOFFSETFROM:-0700
TZOFFSETTO:-0800
TZNAME:PST
DTSTART:20211107T090000
END:STANDARD
BEGIN:DAYLIGHT
TZOFFSETFROM:-0800
TZOFFSETTO:-0700
TZNAME:PDT
DTSTART:20220313T100000
END:DAYLIGHT
BEGIN:STANDARD
TZOFFSETFROM:-0700
TZOFFSETTO:-0800
TZNAME:PST
DTSTART:20221106T090000
END:STANDARD
END:VTIMEZONE
BEGIN:VEVENT
DTSTART;TZID=America/Los_Angeles:20210414T180000
DTEND;TZID=America/Los_Angeles:20210414T191500
DTSTAMP:20260423T232733
CREATED:20201215T051416Z
LAST-MODIFIED:20210101T012909Z
UID:6295-1618423200-1618427700@garyspringfield.com
SUMMARY:Gary Springfield Meditation with Q&A\, 2nd Wednesday of the Month
DESCRIPTION:An Online Event only.  \n6:00 pm-7:15 pm (Pacific Standard Time\, PST)  \nDonations accepted. \n  \n< These additional meditation events have been added to ensure a chance for us to support ourselves\, each other and all sentient beings on Gaia during the course of this pandemic awakening. EdF > \n  \nMeditation\, with time for questions and answers about your practice\, awakenings and general questions about our work. Write down some thoughts and questions to be shared! \nGary Springfield is a Meditation Master and visionary for a planetary evolution that is radically transforming Earth now. He embodies and teaches the New Generation of Light for Mankind. \n  \nIf you are on Gary’s website mailing list\, you will be reminded of these events. \n  \nRSVP to Gary: gspring33@gmail.com \n  \nPlease PayPal Donations to: gspring33@gmail.com \n  \nTechnical questions\, contact Ed: ferrero108@gmail.com \n\n  \nPlease PayPal to:  \nGspring33@gmail.com
URL:https://garyspringfield.com/event/gary-springfield-meditation-with-qa-2021-04-14/
END:VEVENT
END:VCALENDAR